BEGIN:VCALENDAR
VERSION:2.0
PRODID:-//Gamedix - ECPv4.9.6//NONSGML v1.0//EN
CALSCALE:GREGORIAN
METHOD:PUBLISH
X-WR-CALNAME:Gamedix
X-ORIGINAL-URL:http://gamedix.com.my
X-WR-CALDESC:Events for Gamedix
BEGIN:VTIMEZONE
TZID:"UTC"
BEGIN:STANDARD
TZOFFSETFROM:+0000
TZOFFSETTO:+0000
TZNAME:UTC
DTSTART:20260101T000000
END:STANDARD
END:VTIMEZONE
BEGIN:VEVENT
DTSTART;TZID="UTC":20260425T123000
DTEND;TZID="UTC":20260425T180000
DTSTAMP:20260421T101429
CREATED:20260224T065403Z
LAST-MODIFIED:20260224T074102Z
UID:285797-1777120200-1777140000@gamedix.com.my
SUMMARY:CME TRAINING (RADIOLOGY) KUL/ SEL 2026
DESCRIPTION:\n\n\nAcapella Suite Hotel\, Shah Alam\n25 April 2025\, Saturday\n12.30PM – 6.00PM\n\n\n\n  \n
URL:http://gamedix.com.my/training/cme-training-radiology-kul-sel-2026/
END:VEVENT
END:VCALENDAR